BEGIN:VCALENDAR
VERSION:2.0
PRODID:icalendar-ruby
CALSCALE:GREGORIAN
METHOD:PUBLISH
BEGIN:VEVENT
DTSTAMP:20260424T004825Z
UID:159-801165@nab.ca
DTSTART;VALUE=DATE:20260910
DTEND;VALUE=DATE:20260913
CLASS:PUBLIC
CREATED:20260423T123300
DESCRIPTION:The participants of this camp are primarily of German origin\, 
 usually first- or second-generation immigrants\, who have become very bili
 ngual and happily merged their European heritage with a Canadian one.  \n
 Amidst a lot of English\, we hear the mother tongue\, and although present
 ations are in German\, there is an English summary sheet provided for our 
 non-bilingual guests.  We enjoy the music we remember from our childhood 
 and have great fellowship around the tables\, often with a good German sau
 sage.\nWe welcome all new campers\, German or not.
LAST-MODIFIED:20260423T123300
LOCATION:Camp Caroline
SUMMARY:ABA German Camp
URL;VALUE=URI:https://www.nab.ca/events/aba-german-camp--159/2026-09-10
ATTACH;FILENAME=CC Signage.jpeg;FMTTYPE=image/jpeg:https://dq5pwpg1q8ru0.cl
 oudfront.net/2021/07/20/12/36/12/086ac48a-fb78-45a8-9993-363f102c9caa/CC%2
 0Signage.jpeg
END:VEVENT
END:VCALENDAR
