BEGIN:VCALENDAR
VERSION:2.0
PRODID:icalendar-ruby
CALSCALE:GREGORIAN
METHOD:PUBLISH
BEGIN:VEVENT
DTSTAMP:20260424T021434Z
UID:94-801168@nab.ca
DTSTART:20260930T154500Z
DTEND:20260930T193000Z
CLASS:PUBLIC
CREATED:20260423T124224
DESCRIPTION:Held twice a year the ABA Pastor’s Connection is a ‘coming 
 together’ event\, uniquely designed for ABA pastors and pastoral staff t
 o better know one another to build deep and lasting relationships. While m
 eeting in person it also involves sorting through some challenges and oppo
 rtunities that affect local church ministry as well as the ABA overall.\nT
 he Fall 2026 Pastor's Connection will be on \nSeptember 30th in Edmonton a
 t Central Baptist Church &amp\; \non October 1st in Calgary at Thornhill B
 aptist Church.\nCoffee will be served at 8:45 am and our time together at 
 9 am.Lunch at 12 pm will complete our shared time together.\n\n 
LAST-MODIFIED:20260423T124224
LOCATION:
SUMMARY:ABA Fall 2026  Pastors Connection 
URL;VALUE=URI:https://www.nab.ca/events/aba-fall-2026-pastors-connection/20
 26-09-30
ATTACH;FILENAME=Screenshot-2025-08-27-at-4.43.59%E2%80%AFPM.png;FMTTYPE=ima
 ge/png:https://dq5pwpg1q8ru0.cloudfront.net/2025/08/27/22/46/03/f19003e1-2
 f8c-4a35-ade2-6400449af07f/Screenshot-2025-08-27-at-4.43.59%25E2%2580%25AF
 PM.png
END:VEVENT
END:VCALENDAR
