BEGIN:VCALENDAR
VERSION:2.0
PRODID:icalendar-ruby
CALSCALE:GREGORIAN
METHOD:PUBLISH
BEGIN:VEVENT
DTSTAMP:20260423T235908Z
UID:103-801174@nab.ca
DTSTART;VALUE=DATE:20261030
DTEND;VALUE=DATE:20261031
CLASS:PUBLIC
CREATED:20260423T131111
DESCRIPTION:This year’s GEM Conference will be hosted by\nGreenfield Comm
 unity Church\, \nFriday and Saturday\, October 30 &amp\; 31st\, 2026.\n\n
 \n\n \n\n\n 
LAST-MODIFIED:20260423T131111
LOCATION:Greenfield Community Church\, Edmonton
SUMMARY:ABA 2026 Northern & Greater Edmonton Event (GEM)
URL;VALUE=URI:https://www.nab.ca/events/aba-2026-northern-greater-edmonton-
 event-gem/2026-10-30
ATTACH;FILENAME=GO-Team-picture.png;FMTTYPE=image/png:https://dq5pwpg1q8ru0
 .cloudfront.net/2026/04/23/20/10/43/a651ec57-7ed1-45a2-a047-6eea35e17e5a/G
 O-Team-picture.png
END:VEVENT
END:VCALENDAR
